BEGIN:VCALENDAR
VERSION:2.0
PRODID:-//Cairo Spots - ECPv6.15.20//NONSGML v1.0//EN
CALSCALE:GREGORIAN
METHOD:PUBLISH
X-ORIGINAL-URL:https://cairospots.com
X-WR-CALDESC:Events for Cairo Spots
REFRESH-INTERVAL;VALUE=DURATION:PT1H
X-Robots-Tag:noindex
X-PUBLISHED-TTL:PT1H
BEGIN:VTIMEZONE
TZID:UTC
BEGIN:STANDARD
TZOFFSETFROM:+0000
TZOFFSETTO:+0000
TZNAME:UTC
DTSTART:20250101T000000
END:STANDARD
END:VTIMEZONE
BEGIN:VEVENT
DTSTART;TZID=UTC:20260117T190000
DTEND;TZID=UTC:20260117T230000
DTSTAMP:20260424T230248
CREATED:20260114T162946Z
LAST-MODIFIED:20260117T082338Z
UID:10000800-1768676400-1768690800@cairospots.com
SUMMARY:MATTER × JUVENILE Launch Necessary Expenses
DESCRIPTION:MATTER and JUVENILE come together for a guest list only launch event celebrating the release of Necessary Expenses. The event brings both brands into one space through a merch focused gathering paired with music\, drinks\, and a casual social setting. \nThe night features DJ sets by Hossam Antar\, with matcha\, coffee\, and merchandise available throughout the event. Presented as a relaxed launch party\, the collaboration centers on community\, design\, and shared culture\, hosted at Studio Unit Six in the Industrial Area.
URL:https://cairospots.com/event/matter-x-juvenile-launch-necessary-expenses/
LOCATION:Studio Unitsix\, Studio Unitsix\, Industrial Area\, Egypt
CATEGORIES:Party
ATTACH;FMTTYPE=image/jpeg:https://cairospots.com/wp-content/uploads/2026/01/SnapInsta-Ai_3809923629237195649-2.jpg
END:VEVENT
END:VCALENDAR