BEGIN:VCALENDAR
VERSION:2.0
PRODID:-//Cairo Spots - ECPv6.15.20//NONSGML v1.0//EN
CALSCALE:GREGORIAN
METHOD:PUBLISH
X-ORIGINAL-URL:https://cairospots.com
X-WR-CALDESC:Events for Cairo Spots
REFRESH-INTERVAL;VALUE=DURATION:PT1H
X-Robots-Tag:noindex
X-PUBLISHED-TTL:PT1H
BEGIN:VTIMEZONE
TZID:UTC
BEGIN:STANDARD
TZOFFSETFROM:+0000
TZOFFSETTO:+0000
TZNAME:UTC
DTSTART:20250101T000000
END:STANDARD
END:VTIMEZONE
BEGIN:VEVENT
DTSTART;TZID=UTC:20260415T200000
DTEND;TZID=UTC:20260416T200000
DTSTAMP:20260424T180854
CREATED:20260415T191518Z
LAST-MODIFIED:20260415T191518Z
UID:10001967-1776283200-1776369600@cairospots.com
SUMMARY:WHAT REMAINS!
DESCRIPTION:The performance examines what remains of the body and where it now exists\, wavering between imagined comfort and the weight of what came before. It follows the line between escaping a pit filled with roses and thorns\, and descending into another pit of one’s own making\, formed from fragments of the past and filled with torn\, scattered images
URL:https://cairospots.com/event/what-remains/
LOCATION:Rawabet Art Space\, 5 Hussein Basha Al Meamari\, Marouf\, Qasr El Nil\, Cairo\, Egypt
CATEGORIES:Show
ATTACH;FMTTYPE=image/jpeg:https://cairospots.com/wp-content/uploads/2026/04/IMG_3485.jpeg
END:VEVENT
BEGIN:VEVENT
DTSTART;TZID=UTC:20260415T190000
DTEND;TZID=UTC:20260416T190000
DTSTAMP:20260424T180854
CREATED:20260415T191819Z
LAST-MODIFIED:20260415T191819Z
UID:10001968-1776279600-1776366000@cairospots.com
SUMMARY:Under New Suns
DESCRIPTION:Toqa enters an experience that is about to change her life forever. Between what is promised and what it costs\, lies a journey of complicity\, betrayal and survival.
URL:https://cairospots.com/event/under-new-suns/
LOCATION:Rawabet Art Space\, 5 Hussein Basha Al Meamari\, Marouf\, Qasr El Nil\, Cairo\, Egypt
CATEGORIES:Show
ATTACH;FMTTYPE=image/jpeg:https://cairospots.com/wp-content/uploads/2026/04/IMG_3486.jpeg
END:VEVENT
BEGIN:VEVENT
DTSTART;TZID=UTC:20260206T190000
DTEND;TZID=UTC:20260206T233000
DTSTAMP:20260424T180854
CREATED:20260202T154720Z
LAST-MODIFIED:20260202T154720Z
UID:10001877-1770404400-1770420600@cairospots.com
SUMMARY:Mohamed Ahmed Interactive Comedy Show at Rawabet Art Space
DESCRIPTION:Mohamed Ahmed Interactive Comedy Show is a live comedy performance built around audience participation and spontaneous humor. The show brings together Mohamed Ahmed alongside Mohamed Soliman and Ahmed Flex for a night where jokes are created in real time and the crowd actively shapes the experience. Expect improvisation\, unexpected moments\, and a fast paced performance that breaks the usual barrier between performer and audience. The show focuses on interaction\, shared laughter\, and a dynamic atmosphere where no two performances are the same.
URL:https://cairospots.com/event/mohamed-ahmed-interactive-comedy-show-at-rawabet-art-space/
LOCATION:Rawabet Art Space\, 5 Hussein Basha Al Meamari\, Marouf\, Qasr El Nil\, Cairo\, Egypt
CATEGORIES:Comedy
ATTACH;FMTTYPE=image/jpeg:https://cairospots.com/wp-content/uploads/2026/02/Event-Cover-94.jpg
END:VEVENT
BEGIN:VEVENT
DTSTART;TZID=UTC:20260118T190000
DTEND;TZID=UTC:20260118T220000
DTSTAMP:20260424T180854
CREATED:20260112T014003Z
LAST-MODIFIED:20260117T081403Z
UID:10000793-1768762800-1768773600@cairospots.com
SUMMARY:El Natta at Rawabet Art Space
DESCRIPTION:El Natta is a theatrical performance set in Ramsis Square\, unfolding over the final eight days before the end of the world. With an approaching asteroid and a known countdown\, the story focuses on how people respond when faced with an unavoidable disaster rather than the disaster itself. \nThrough multiple characters\, the performance explores different human reactions including fear\, denial\, humor\, chaos\, and unconventional attempts to cope and survive. Each day of the narrative moves closer to the end\, revealing new aspects of the characters and the surrounding place. El Natta presents ordinary people in an extraordinary situation\, approaching the idea of an ending with an Egyptian sensibility shaped by resilience\, subtle sarcasm\, and persistence until the final moment. \nالنتّة هو عرض مسرحي تدور أحداثه في ميدان رمسيس خلال الأيام الثمانية الأخيرة قبل نهاية العالم. مع اقتراب كويكب معروف وبدء العدّ التنازلي، يركّز العمل على ردود أفعال الناس في مواجهة كارثة حتمية أكثر من تركيزه على الكارثة نفسها. \nمن خلال مجموعة من الشخصيات المختلفة، يستعرض العرض أشكالًا متعددة من التفاعل الإنساني مثل الخوف والإنكار والضحك والفوضى ومحاولات غير متوقعة للتأقلم والبقاء. ومع كل يوم يقترب فيه الزمن من النهاية، تنكشف طبقات جديدة من الشخصيات والمكان. يقدّم عرض النتّة حكاية أشخاص عاديين في ظرف استثنائي، يواجهون فكرة النهاية بروح مصرية تمتزج فيها المرونة والسخرية الخفيفة والإصرار على الاستمرار حتى اللحظة الأخيرة.
URL:https://cairospots.com/event/el-natta/2026-01-18/
LOCATION:Rawabet Art Space\, 5 Hussein Basha Al Meamari\, Marouf\, Qasr El Nil\, Cairo\, Egypt
CATEGORIES:Show
ATTACH;FMTTYPE=image/jpeg:https://cairospots.com/wp-content/uploads/2026/01/72e25034fad7908dc3e380a5d8f3049d-1.jpg
END:VEVENT
END:VCALENDAR