BEGIN:VCALENDAR
VERSION:2.0
PRODID:-//Cairo Spots - ECPv6.15.20//NONSGML v1.0//EN
CALSCALE:GREGORIAN
METHOD:PUBLISH
X-WR-CALNAME:Cairo Spots
X-ORIGINAL-URL:https://cairospots.com
X-WR-CALDESC:Events for Cairo Spots
REFRESH-INTERVAL;VALUE=DURATION:PT1H
X-Robots-Tag:noindex
X-PUBLISHED-TTL:PT1H
BEGIN:VTIMEZONE
TZID:UTC
BEGIN:STANDARD
TZOFFSETFROM:+0000
TZOFFSETTO:+0000
TZNAME:UTC
DTSTART:20250101T000000
END:STANDARD
END:VTIMEZONE
BEGIN:VEVENT
DTSTART;TZID=UTC:20260214T210000
DTEND;TZID=UTC:20260214T233000
DTSTAMP:20260424T183625
CREATED:20260202T135503Z
LAST-MODIFIED:20260208T134623Z
UID:10001908-1771102800-1771111800@cairospots.com
SUMMARY:Al Shamashargi Family at El Rihany Theater
DESCRIPTION:Al Shamashargi Family is a social comedy performed at El Rihany Theater on January 29\, 30\, and 31\, starting at 9:00 PM. The play follows a simple Egyptian family faced with a sudden financial opportunity that turns their daily life upside down. As money enters the household\, tensions rise\, relationships are tested\, and a series of humorous yet human situations unfold. The story centers on one core question: is money stronger than family? \nOrganized by Sokseh x Workshop.
URL:https://cairospots.com/event/al-shamashargi-family-at-el-rihany-theater-2/2026-02-14/
LOCATION:El Rihany Theater\, 17 Emad El-Deen\, Oraby\, Al Azbakeya\, Cairo Governorate\, Egypt
CATEGORIES:Show
ATTACH;FMTTYPE=image/png:https://cairospots.com/wp-content/uploads/2026/01/Untitled-design-17.png
END:VEVENT
BEGIN:VEVENT
DTSTART;TZID=UTC:20260213T200000
DTEND;TZID=UTC:20260213T233000
DTSTAMP:20260424T183625
CREATED:20260130T173544Z
LAST-MODIFIED:20260130T173544Z
UID:10001799-1771012800-1771025400@cairospots.com
SUMMARY:Ahmed Khairy Interactive Comedy Show “2ool w Ba3ba3” at El Rihany Theater
DESCRIPTION:Ahmed Khairy brings his interactive comedy show “2ool w Ba3ba3” to El Rihany Theater on Thursday\, February 13 at 8:00 PM\, presented by Sokseh. This live comedy experience breaks the traditional stage barrier and places the audience at the center of the show\, inviting them to speak up\, share personal stories\, joke\, play\, and engage directly with the performance. Built around real interaction and spontaneous moments\, the show creates a space for honest expression\, shared laughter\, and participation\, offering a format that goes beyond standard stand up comedy and delivers a fresh\, audience driven night at El Rihany Theater.
URL:https://cairospots.com/event/ahmed-khairy-interactive-comedy-show-2ool-w-ba3ba3-at-el-rihany-theater/
LOCATION:El Rihany Theater\, 17 Emad El-Deen\, Oraby\, Al Azbakeya\, Cairo Governorate\, Egypt
CATEGORIES:Comedy
ATTACH;FMTTYPE=image/jpeg:https://cairospots.com/wp-content/uploads/2026/01/Event-Cover-30.jpg
END:VEVENT
BEGIN:VEVENT
DTSTART;TZID=UTC:20260206T190000
DTEND;TZID=UTC:20260206T230000
DTSTAMP:20260424T183625
CREATED:20260113T074808Z
LAST-MODIFIED:20260117T100900Z
UID:10000041-1770404400-1770418800@cairospots.com
SUMMARY:Kalam Men Lahab at El Rihany Theater
DESCRIPTION:Kalam Men Lahab returns for its second edition on February 6 at El Rihany Theater. Doors open at 6:00 PM and the show begins at 7:00 PM. Organized by Soxeih and TMS\, the event is presented as a live storytelling and spoken performance focused on themes of heartbreak\, breakups\, and emotional experiences. \nThe show creates an open space for shared stories and collective listening\, blending personal narratives with live performance in a theatrical setting. Kalam Men Lahab centers on emotional expression\, audience connection\, and honest conversations shaped by real life experiences. \nكلام من لهب يعود بنسخته الثانية يوم ٦ فبراير على مسرح الريحاني. تفتح الأبواب في الساعة ٦:٠٠ مساءً ويبدأ العرض في الساعة ٧:٠٠ مساءً. يُنظَّم الحدث من قبل Soxeih و TMS، ويُقدَّم كعرض حي قائم على الحكي والسرد حول موضوعات الفراق والانكسار والتجارب العاطفية. \nيوفّر العرض مساحة لمشاركة القصص والاستماع لتجارب الآخرين داخل إطار مسرحي، مع تركيز على التعبير الصادق والتواصل مع الجمهور، حيث تتشكّل الليلة من خلال التجارب الإنسانية المشتركة.
URL:https://cairospots.com/event/kalam-men-lahab-at-el-rihany-theater-2/
LOCATION:El Rihany Theater\, 17 Emad El-Deen\, Oraby\, Al Azbakeya\, Cairo Governorate\, Egypt
CATEGORIES:Comedy
ATTACH;FMTTYPE=image/jpeg:https://cairospots.com/wp-content/uploads/2026/01/96dffae69989e61e372a4044709395d1.png-2.jpeg
END:VEVENT
END:VCALENDAR