BEGIN:VCALENDAR
VERSION:2.0
PRODID:-//Cairo Spots - ECPv6.15.20//NONSGML v1.0//EN
CALSCALE:GREGORIAN
METHOD:PUBLISH
X-ORIGINAL-URL:https://cairospots.com
X-WR-CALDESC:Events for Cairo Spots
REFRESH-INTERVAL;VALUE=DURATION:PT1H
X-Robots-Tag:noindex
X-PUBLISHED-TTL:PT1H
BEGIN:VTIMEZONE
TZID:UTC
BEGIN:STANDARD
TZOFFSETFROM:+0000
TZOFFSETTO:+0000
TZNAME:UTC
DTSTART:20250101T000000
END:STANDARD
END:VTIMEZONE
BEGIN:VEVENT
DTSTART;TZID=UTC:20260129T200000
DTEND;TZID=UTC:20260129T233000
DTSTAMP:20260424T230249
CREATED:20260127T193432Z
LAST-MODIFIED:20260127T193432Z
UID:10001383-1769716800-1769729400@cairospots.com
SUMMARY:Karim El Shenawy Interview with Mahmoud Saad at Falaki Theatre
DESCRIPTION:Karim El Shenawy appears live in conversation with Mahmoud Saad at Falaki Theatre at the American University in Cairo Tahrir Square on January 29\, 2026 at 8:00 PM. This marks the first live public interview between Mahmoud Saad and Karim El Shenawy\, presented as part of the SoldOut كامل العدد series and filmed in front of a live audience. \nThe evening focuses on an open conversation around Karim El Shenawy’s career\, creative process\, and personal experiences\, in an intimate theatre setting designed for focused listening and direct audience presence. \nImportant notes\n	•	This is a filmed event and audience members may appear in recorded material\n	•	Mobile phones are not allowed inside the theatre and will be stored in lockers until the end of the show\n	•	Entry requires a valid ticket and doors open before the scheduled start time\n	•	Seating follows the ticketed arrangement \nThe event takes place at Falaki Mainstage Theatre inside the American University in Cairo Tahrir Square.
URL:https://cairospots.com/event/karim-el-shenawy-interview-with-mahmoud-saad-at-falaki-theatre/
LOCATION:Falaki Theater\, Al Falaki\, Abdeen\, Cairo Governorate\, Downtown
CATEGORIES:Show
ATTACH;FMTTYPE=image/jpeg:https://cairospots.com/wp-content/uploads/2026/01/Untitled-design-34.jpg
END:VEVENT
BEGIN:VEVENT
DTSTART;TZID=UTC:20260128T200000
DTEND;TZID=UTC:20260128T233000
DTSTAMP:20260424T230249
CREATED:20260127T172732Z
LAST-MODIFIED:20260127T172732Z
UID:10001369-1769630400-1769643000@cairospots.com
SUMMARY:Eyad Nassar Live Interview with Mahmoud Saad at Falaki Theatre
DESCRIPTION:Eyad Nassar takes part in his first live on stage interview with Mahmoud Saad on Wednesday\, January 28\, 2026\, at 8:00 PM at Falaki Mainstage Theatre\, The American University in Cairo\, Tahrir Square. The event is presented by SoldOut كامل العدد and hosted in front of a live audience. \nThe evening centers on a candid conversation exploring Eyad Nassar’s career\, creative journey\, and personal perspectives\, offering audiences a rare opportunity to hear his story in an intimate theatre setting. \nThis is a filmed event\, and attendance implies consent to appear in recorded material that may be shared across different platforms. Mobile phones are not permitted inside the theatre and will be securely stored in lockers until the show ends to ensure a fully present experience.
URL:https://cairospots.com/event/eyad-nassar-live-interview-with-mahmoud-saad-at-falaki-theatre/
LOCATION:Falaki Theater\, Al Falaki\, Abdeen\, Cairo Governorate\, Downtown
CATEGORIES:Show
ATTACH;FMTTYPE=image/jpeg:https://cairospots.com/wp-content/uploads/2026/01/Untitled-design-22.jpg
END:VEVENT
END:VCALENDAR