BEGIN:VCALENDAR
VERSION:2.0
PRODID:-//Cairo Spots - ECPv6.15.20//NONSGML v1.0//EN
CALSCALE:GREGORIAN
METHOD:PUBLISH
X-WR-CALNAME:Cairo Spots
X-ORIGINAL-URL:https://cairospots.com
X-WR-CALDESC:Events for Cairo Spots
REFRESH-INTERVAL;VALUE=DURATION:PT1H
X-Robots-Tag:noindex
X-PUBLISHED-TTL:PT1H
BEGIN:VTIMEZONE
TZID:UTC
BEGIN:STANDARD
TZOFFSETFROM:+0000
TZOFFSETTO:+0000
TZNAME:UTC
DTSTART:20250101T000000
END:STANDARD
END:VTIMEZONE
BEGIN:VEVENT
DTSTART;TZID=UTC:20260424T200000
DTEND;TZID=UTC:20260424T220000
DTSTAMP:20260424T164047
CREATED:20260415T202421Z
LAST-MODIFIED:20260415T202421Z
UID:10001977-1777060800-1777068000@cairospots.com
SUMMARY:Ain Gamal X Al Manara
DESCRIPTION:Get ready for a massive night of laughter with Omar El Gamal at Al Manara Main Hall\, Vol. 62 is his biggest show yet packed with sharp humor\, relatable moments\, and nonstop laughs. From crowd-favorite jokes to all-new material\, this is a comedy night you don’t want to miss.
URL:https://cairospots.com/event/ain-gamal-x-al-manara/
LOCATION:Al Manara Main Hall
CATEGORIES:Comedy
ATTACH;FMTTYPE=image/jpeg:https://cairospots.com/wp-content/uploads/2026/04/IMG_3342.jpeg
END:VEVENT
END:VCALENDAR