BEGIN:VCALENDAR
VERSION:2.0
PRODID:-//Cairo Spots - ECPv6.15.20//NONSGML v1.0//EN
CALSCALE:GREGORIAN
METHOD:PUBLISH
X-ORIGINAL-URL:https://cairospots.com
X-WR-CALDESC:Events for Cairo Spots
REFRESH-INTERVAL;VALUE=DURATION:PT1H
X-Robots-Tag:noindex
X-PUBLISHED-TTL:PT1H
BEGIN:VTIMEZONE
TZID:UTC
BEGIN:STANDARD
TZOFFSETFROM:+0000
TZOFFSETTO:+0000
TZNAME:UTC
DTSTART:20250101T000000
END:STANDARD
END:VTIMEZONE
BEGIN:VEVENT
DTSTART;TZID=UTC:20260123T220000
DTEND;TZID=UTC:20260123T235900
DTSTAMP:20260424T231148
CREATED:20260121T120122Z
LAST-MODIFIED:20260127T123938Z
UID:10001328-1769205600-1769212740@cairospots.com
SUMMARY:Shoodz at Aurora El Gouna
DESCRIPTION:The weekend peak. Shoodz closes the run with a high energy Friday night set designed for full momentum and no slowing down. Late hours\, loud reactions\, and a proper weekend kickoff.
URL:https://cairospots.com/event/shoodz-at-aurora/
LOCATION:Aurora El Gouna\, Abu Tig Marina\, Red Sea Governorate\, El Gouna Red Sea
CATEGORIES:Party
ATTACH;FMTTYPE=image/jpeg:https://cairospots.com/wp-content/uploads/2026/01/Were-not-waiting-for-the-weekend-to-start-the-fun.-😌✨Auroras-lining-up-three-nights-in-a-row-1.jpg
END:VEVENT
BEGIN:VEVENT
DTSTART;TZID=UTC:20260122T220000
DTEND;TZID=UTC:20260122T235900
DTSTAMP:20260424T231148
CREATED:20260121T115908Z
LAST-MODIFIED:20260121T115908Z
UID:10001327-1769119200-1769126340@cairospots.com
SUMMARY:Arrab at Aurora El Gouna
DESCRIPTION:Thursday turns it up. Arrab brings a heavier edge and a focused sound built for packed floors and late hours. Expect rising intensity and a crowd that stays locked in till the end.
URL:https://cairospots.com/event/arrab-at-aurora-el-gouna/
LOCATION:Aurora El Gouna\, Abu Tig Marina\, Red Sea Governorate\, El Gouna Red Sea
CATEGORIES:Party
ATTACH;FMTTYPE=image/jpeg:https://cairospots.com/wp-content/uploads/2026/01/Were-not-waiting-for-the-weekend-to-start-the-fun.-😌✨Auroras-lining-up-three-nights-in-a-row-0.jpg
END:VEVENT
BEGIN:VEVENT
DTSTART;TZID=UTC:20260121T220000
DTEND;TZID=UTC:20260121T235900
DTSTAMP:20260424T231148
CREATED:20260121T115754Z
LAST-MODIFIED:20260121T115754Z
UID:10001326-1769032800-1769039940@cairospots.com
SUMMARY:Aries at Aurora El Gouna
DESCRIPTION:Midweek energy done right. Aries takes over Aurora with a smooth\, groove driven set that eases you into the night while keeping the room moving. A warm up that sets the tone for the days ahead.
URL:https://cairospots.com/event/aries-at-aurora-el-gouna/
LOCATION:Aurora El Gouna\, Abu Tig Marina\, Red Sea Governorate\, El Gouna Red Sea
CATEGORIES:Party
ATTACH;FMTTYPE=image/jpeg:https://cairospots.com/wp-content/uploads/2026/01/Were-not-waiting-for-the-weekend-to-start-the-fun.-😌✨Auroras-lining-up-three-nights-in-a-row-0-2.jpg
END:VEVENT
BEGIN:VEVENT
DTSTART;TZID=UTC:20260119T210000
DTEND;TZID=UTC:20260119T235900
DTSTAMP:20260424T231148
CREATED:20260118T083640Z
LAST-MODIFIED:20260119T074636Z
UID:10000885-1768856400-1768867140@cairospots.com
SUMMARY:K-Funk Live DJ Set at Aurora El Gouna
DESCRIPTION:Aurora hosts K Funk for a live DJ set in El Gouna\, delivering a night focused on house and electronic music with deep grooves and steady progression. \nThe set blends rhythmic basslines\, smooth transitions\, and carefully selected tracks designed to build energy throughout the night. \nExpect a vibrant club atmosphere by the marina\, where sound\, flow\, and crowd connection come together for a late night electronic music experience suited for dancefloor driven audiences.
URL:https://cairospots.com/event/k-funk-live-dj-set-at-aurora-el-gouna/
LOCATION:Aurora El Gouna\, Abu Tig Marina\, Red Sea Governorate\, El Gouna Red Sea
CATEGORIES:Party
ATTACH;FMTTYPE=image/jpeg:https://cairospots.com/wp-content/uploads/2026/01/The-next-few-nights-at-Aurora-are-lined-up-just-right-🪩-💃🏼-AMK-sets-things-in-motion-on-Satur-2-2.jpg
END:VEVENT
BEGIN:VEVENT
DTSTART;TZID=UTC:20260118T210000
DTEND;TZID=UTC:20260118T235900
DTSTAMP:20260424T231148
CREATED:20260118T083154Z
LAST-MODIFIED:20260119T074650Z
UID:10000884-1768770000-1768780740@cairospots.com
SUMMARY:Roody Vandetta at Aurora El Gouna
DESCRIPTION:Roody Vandetta is set to take over Aurora for a night of high energy electronic music at Abu Tig Marina. \nKnown for his groove driven selections and crowd focused sets\, Roody Vandetta brings his sound to El Gouna for a Sunday night session by the water. \nDate: Sunday\, January 18\nLocation: Aurora\, Abu Tig Marina\, El Gouna \nFollow @cairospots\, visit our website cairospots.com and download our Cairo Spots iOS app for more on nightlife and DJ events across Egypt.
URL:https://cairospots.com/event/roody-vandetta-at-aurora-el-gouna/
LOCATION:Aurora El Gouna\, Abu Tig Marina\, Red Sea Governorate\, El Gouna Red Sea
CATEGORIES:Party
ATTACH;FMTTYPE=image/jpeg:https://cairospots.com/wp-content/uploads/2026/01/The-next-few-nights-at-Aurora-are-lined-up-just-right-🪩-💃🏼-AMK-sets-things-in-motion-on-Satur-2.jpg
END:VEVENT
END:VCALENDAR