BEGIN:VCALENDAR
VERSION:2.0
PRODID:-//Cairo Spots - ECPv6.15.20//NONSGML v1.0//EN
CALSCALE:GREGORIAN
METHOD:PUBLISH
X-WR-CALNAME:Cairo Spots
X-ORIGINAL-URL:https://cairospots.com
X-WR-CALDESC:Events for Cairo Spots
REFRESH-INTERVAL;VALUE=DURATION:PT1H
X-Robots-Tag:noindex
X-PUBLISHED-TTL:PT1H
BEGIN:VTIMEZONE
TZID:UTC
BEGIN:STANDARD
TZOFFSETFROM:+0000
TZOFFSETTO:+0000
TZNAME:UTC
DTSTART:20250101T000000
END:STANDARD
END:VTIMEZONE
BEGIN:VEVENT
DTSTART;TZID=UTC:20260423T140000
DTEND;TZID=UTC:20260423T220000
DTSTAMP:20260424T193030
CREATED:20260415T172458Z
LAST-MODIFIED:20260415T172630Z
UID:10001962-1776952800-1776981600@cairospots.com
SUMMARY:Minus One at Babbo's
DESCRIPTION:Minus One Before it all begins… this is where the story starts. Line-up TBA. Minus One is the official opening moment of the weekend. A space where energy builds\, people meet\, and the first connections are made — before everything unfolds. The anticipation is high\, the music sets the tone\, and the atmosphere is all about stepping into what’s coming next. Set in a vibrant\, welcoming setting\, this is where strangers become familiar faces\, plans are made\, and the weekend begins to take shape. Includes: • Curated music experience • Signature food & drinks available What to expect: • Warm-up sets to set the tone for the weekend • International crowd arriving and connecting • A social\, high-energy atmosphere without the peak intensity No pressure. No expectations. Just the beginning of something unforgettable.
URL:https://cairospots.com/event/minus-one-at-babbos/
LOCATION:Babbo’s\, Babbo’s Cairo\, Egypt\, New Giza
CATEGORIES:Party
ATTACH;FMTTYPE=image/jpeg:https://cairospots.com/wp-content/uploads/2026/04/IMG_0072.jpeg
END:VEVENT
END:VCALENDAR