BEGIN:VCALENDAR
VERSION:2.0
PRODID:-//Cairo Spots - ECPv6.15.20//NONSGML v1.0//EN
CALSCALE:GREGORIAN
METHOD:PUBLISH
X-ORIGINAL-URL:https://cairospots.com
X-WR-CALDESC:Events for Cairo Spots
REFRESH-INTERVAL;VALUE=DURATION:PT1H
X-Robots-Tag:noindex
X-PUBLISHED-TTL:PT1H
BEGIN:VTIMEZONE
TZID:UTC
BEGIN:STANDARD
TZOFFSETFROM:+0000
TZOFFSETTO:+0000
TZNAME:UTC
DTSTART:20250101T000000
END:STANDARD
END:VTIMEZONE
BEGIN:VEVENT
DTSTART;TZID=UTC:20260427T190000
DTEND;TZID=UTC:20260427T220000
DTSTAMP:20260424T171017
CREATED:20260415T202933Z
LAST-MODIFIED:20260415T202933Z
UID:10001979-1777316400-1777327200@cairospots.com
SUMMARY:El Khatba X Boom Room
DESCRIPTION:El Khataba is a live interactive comedy dating show full of audience games\, funny questions\, and unexpected moments. \nJoin us at Boom Room\, Madinaty\, on Monday\, April 27th at 7 PM for a night of laughs\, dating stories\, and playful challenges on stage.
URL:https://cairospots.com/event/el-khatba-x-boom-room/
LOCATION:Boom Room\, Open Air Mall\, Madinaty
CATEGORIES:Comedy
ATTACH;FMTTYPE=image/jpeg:https://cairospots.com/wp-content/uploads/2026/04/IMG_3425.jpeg
END:VEVENT
BEGIN:VEVENT
DTSTART;TZID=UTC:20260429T200000
DTEND;TZID=UTC:20260429T220000
DTSTAMP:20260424T171017
CREATED:20260415T203224Z
LAST-MODIFIED:20260415T203224Z
UID:10001980-1777492800-1777500000@cairospots.com
SUMMARY:El Leila El Kebeera X Boom Room
DESCRIPTION:Enjoy one of Egypt’s most iconic puppet shows\, El Leila El Kebira\, in its official performance at Boom Room on Wednesday\, April 29 at 8:00 PM. \nThe night will begin with an open act before the main show\, followed by a live performance filled with joy\, Egyptian spirit\, and the beloved characters audiences know and love\, in an experience suitable for the whole family.
URL:https://cairospots.com/event/el-leila-el-kebeera-x-boom-room/
LOCATION:Boom Room\, Open Air Mall\, Madinaty
CATEGORIES:Show
ATTACH;FMTTYPE=image/jpeg:https://cairospots.com/wp-content/uploads/2026/04/IMG_3471.jpeg
END:VEVENT
BEGIN:VEVENT
DTSTART;TZID=UTC:20260517T200000
DTEND;TZID=UTC:20260517T230000
DTSTAMP:20260424T171017
CREATED:20260415T204440Z
LAST-MODIFIED:20260415T204440Z
UID:10001985-1779048000-1779058800@cairospots.com
SUMMARY:Tablet El Sitt X Boom Room
DESCRIPTION:Enjoy a special night with Tablat El Sitt at Boom Room on May 17 at 8:00 PM. \nA live performance full of rhythm\, energy\, and vibrant musical spirit\, bringing you a unique and unforgettable experience.
URL:https://cairospots.com/event/tablet-el-sitt-x-boom-room/
LOCATION:Boom Room\, Open Air Mall\, Madinaty
CATEGORIES:Show
ATTACH;FMTTYPE=image/jpeg:https://cairospots.com/wp-content/uploads/2026/04/IMG_3503.jpeg
END:VEVENT
END:VCALENDAR