BEGIN:VCALENDAR
VERSION:2.0
PRODID:-//Cairo Spots - ECPv6.15.20//NONSGML v1.0//EN
CALSCALE:GREGORIAN
METHOD:PUBLISH
X-ORIGINAL-URL:https://cairospots.com
X-WR-CALDESC:Events for Cairo Spots
REFRESH-INTERVAL;VALUE=DURATION:PT1H
X-Robots-Tag:noindex
X-PUBLISHED-TTL:PT1H
BEGIN:VTIMEZONE
TZID:UTC
BEGIN:STANDARD
TZOFFSETFROM:+0000
TZOFFSETTO:+0000
TZNAME:UTC
DTSTART:20250101T000000
END:STANDARD
END:VTIMEZONE
BEGIN:VEVENT
DTSTART;VALUE=DATE:20260205
DTEND;VALUE=DATE:20260210
DTSTAMP:20260424T202529
CREATED:20260118T110843Z
LAST-MODIFIED:20260121T172840Z
UID:10001282-1770260400-1770605999@cairospots.com
SUMMARY:Egypt International Boat Show 2026 at Cairo International Convention Center
DESCRIPTION:Egypt International Boat Show 2026 returns as the region’s leading marine and boating exhibition\, bringing together the full spectrum of the boating and yachting industry under one roof. Held at the Cairo International Convention Center\, the show presents a comprehensive showcase of boats\, yachts\, marine technology\, and lifestyle experiences. \nThe event features a wide range of exhibitors including yacht builders\, rib and speedboat manufacturers\, marine equipment suppliers\, water sports brands\, and luxury lifestyle partners. Visitors can explore the latest innovations in boating design\, navigation systems\, marine engines\, and on-water technology\, alongside premium accessories and services. \nBeyond vessels and gear\, Egypt International Boat Show highlights the broader boating lifestyle through curated experiences\, industry networking opportunities\, and insights into marine tourism and waterfront living. The exhibition serves as a key meeting point for industry professionals\, investors\, enthusiasts\, and first-time buyers. \nPositioned as a regional hub for marine innovation and leisure\, Egypt International Boat Show 2026 offers a world-class platform to discover trends shaping the future of boating in Egypt and the wider region.
URL:https://cairospots.com/event/egypt-international-boat-show-2026-at-cairo-international-convention-center/
LOCATION:Cairo International Convention Center (CICC)\, 2 El-Nasr Rd\, Al Estad\, Qesm Than Madinet Nasr\, Cairo Governorate 4436001\, Nasr City
CATEGORIES:Exhibition
ATTACH;FMTTYPE=image/jpeg:https://cairospots.com/wp-content/uploads/2026/01/SnapInsta-Ai_3789684637610541423-2.jpg
END:VEVENT
END:VCALENDAR