BEGIN:VCALENDAR
VERSION:2.0
PRODID:-//Cairo Spots - ECPv6.15.20//NONSGML v1.0//EN
CALSCALE:GREGORIAN
METHOD:PUBLISH
X-ORIGINAL-URL:https://cairospots.com
X-WR-CALDESC:Events for Cairo Spots
REFRESH-INTERVAL;VALUE=DURATION:PT1H
X-Robots-Tag:noindex
X-PUBLISHED-TTL:PT1H
BEGIN:VTIMEZONE
TZID:UTC
BEGIN:STANDARD
TZOFFSETFROM:+0000
TZOFFSETTO:+0000
TZNAME:UTC
DTSTART:20250101T000000
END:STANDARD
END:VTIMEZONE
BEGIN:VEVENT
DTSTART;TZID=UTC:20260407T120000
DTEND;TZID=UTC:20260407T233000
DTSTAMP:20260424T180415
CREATED:20260327T150110Z
LAST-MODIFIED:20260329T094455Z
UID:10001953-1775563200-1775604600@cairospots.com
SUMMARY:Beyond Van Gogh in District 5 New Cairo
DESCRIPTION:Beyond Van Gogh: The Immersive Experience is coming to Cairo on April 7 at District 5 by Marakez. \nThe exhibition features more than 300 of Van Gogh’s artworks projected across walls\, floors\, and ceilings in a fully immersive 360 degree format. Works including The Starry Night\, Sunflowers\, and Cafe Terrace at Night are freed from their frames and brought to life through movement\, light\, and sound\, accompanied by the artist’s own words set to music. \nThe experience was created by French-Canadian Creative Director Mathieu St-Arnaud and his team at Montreal’s Normal Studios\, and has drawn over five million visitors across North America and Europe. \nThis is the first time Beyond Van Gogh lands in Egypt. \nPresale tickets go on sale Monday March 30 at 2 PM. Sign up at beyondvangoghegypt.com to be notified.
URL:https://cairospots.com/event/beyond-van-gogh-in-district-5-new-cairo/
LOCATION:District 5\, Cairo Governorate Desert\, Cairo Governorate 4064051\, New Cairo
CATEGORIES:Exhibition
ATTACH;FMTTYPE=image/jpeg:https://cairospots.com/wp-content/uploads/2026/03/IMG_5760.jpeg
END:VEVENT
BEGIN:VEVENT
DTSTART;VALUE=DATE:20260212
DTEND;VALUE=DATE:20260216
DTSTAMP:20260424T180415
CREATED:20260119T102424Z
LAST-MODIFIED:20260121T165710Z
UID:10001296-1770865200-1771124399@cairospots.com
SUMMARY:Private Label Egypt: Egypt’s First Private Label Manufacturing Expo
DESCRIPTION:Private Label Egypt takes place from February 12 to 14\, 2026\, at District 5 in Cairo\, bringing together entrepreneurs\, retailers\, buyers\, and manufacturers under one roof. The event is the first of its kind in Egypt\, fully dedicated to private label manufacturing across multiple industries including food and beverage\, fashion\, beauty\, personal care\, home care\, packaging\, chemicals\, and more. \nDesigned for anyone launching\, developing\, or scaling a brand\, Private Label Egypt offers direct access to trusted local manufacturers\, product development insights\, and sourcing opportunities. Attendees can explore dozens of exhibitor booths\, attend expert led workshops\, and join live panel discussions focused on manufacturing\, branding\, packaging\, and market readiness. \nThe event is free to attend with prior registration and is built for entrepreneurs\, startups\, retailers\, procurement leaders\, brand teams\, and manufacturers looking to form B2B partnerships.
URL:https://cairospots.com/event/private-label-egypt-egypts-first-private-label-manufacturing-expo/
LOCATION:District 5\, Cairo Governorate Desert\, Cairo Governorate 4064051\, New Cairo
CATEGORIES:Exhibition
ATTACH;FMTTYPE=image/jpeg:https://cairospots.com/wp-content/uploads/2026/01/End-Carousel-scaled.jpg
END:VEVENT
BEGIN:VEVENT
DTSTART;TZID=UTC:20260118T180000
DTEND;TZID=UTC:20260118T210000
DTSTAMP:20260424T180415
CREATED:20260117T081849Z
LAST-MODIFIED:20260117T082053Z
UID:10000840-1768759200-1768770000@cairospots.com
SUMMARY:The Stadium Fan Zone at District 5 New Cairo
DESCRIPTION:The Stadium is an immersive fan zone in New Cairo\, Cairo\, Egypt\, dedicated to screening matches from the Africa Cup of Nations 2025. Expect live match broadcasts on giant screens with a stadium style atmosphere built around the crowd\, the chants\, and the match day energy. \nThe experience brings fans together for football\, music\, food\, and a full community vibe across the tournament period. Come cheer\, celebrate\, and watch African football surrounded by fellow supporters at District 5. \nDates\nFrom 21 December 2025 to 18 January 2026 \nVenue\nDistrict 5\, New Cairo\, Cairo\, Egypt
URL:https://cairospots.com/event/the-stadium-fan-zone-at-district-5-new-cairo/2026-01-18/
LOCATION:District 5\, Cairo Governorate Desert\, Cairo Governorate 4064051\, New Cairo
CATEGORIES:Sports
ATTACH;FMTTYPE=image/jpeg:https://cairospots.com/wp-content/uploads/2026/01/3dfe3b6365529da0102299f818c14ef7-2.jpg
END:VEVENT
END:VCALENDAR