BEGIN:VCALENDAR
VERSION:2.0
PRODID:-//Cairo Spots - ECPv6.15.20//NONSGML v1.0//EN
CALSCALE:GREGORIAN
METHOD:PUBLISH
X-ORIGINAL-URL:https://cairospots.com
X-WR-CALDESC:Events for Cairo Spots
REFRESH-INTERVAL;VALUE=DURATION:PT1H
X-Robots-Tag:noindex
X-PUBLISHED-TTL:PT1H
BEGIN:VTIMEZONE
TZID:UTC
BEGIN:STANDARD
TZOFFSETFROM:+0000
TZOFFSETTO:+0000
TZNAME:UTC
DTSTART:20250101T000000
END:STANDARD
END:VTIMEZONE
BEGIN:VEVENT
DTSTART;TZID=UTC:20260401T003000
DTEND;TZID=UTC:20260430T230000
DTSTAMP:20260424T163517
CREATED:20260416T135706Z
LAST-MODIFIED:20260416T135706Z
UID:10001994-1775003400-1777590000@cairospots.com
SUMMARY:Beyond Van Gogh
DESCRIPTION:2 ICONIC ARTISTS\nIMMERSIVE VISUALS & SOUND\nOVER 700 MASTERPIECES
URL:https://cairospots.com/event/beyond-van-gogh/
LOCATION:District 5\, Cairo Governorate Desert\, Cairo Governorate 4064051\, New Cairo
CATEGORIES:Exhibition
ATTACH;FMTTYPE=image/jpeg:https://cairospots.com/wp-content/uploads/2026/04/IMG_3522.jpeg
END:VEVENT
BEGIN:VEVENT
DTSTART;TZID=UTC:20260425T200000
DTEND;TZID=UTC:20260425T233000
DTSTAMP:20260424T163517
CREATED:20260419T171244Z
LAST-MODIFIED:20260419T171244Z
UID:10001996-1777147200-1777159800@cairospots.com
SUMMARY:Fresh Out The Academy- Intro To Stand Up Comedy Graduation
DESCRIPTION:Al Hezb El Comedy is back with its showcase of our Intro to Stand Up Comedy Graduation event live at Kamelizer Spaces\, District 5 on Saturday April 25th. Come check out our brand new talents fresh out of our Academy. Five new talents that will leaving laughing all night long. Hosted by: Hashem El Garhy.
URL:https://cairospots.com/event/fresh-out-the-academy-intro-to-stand-up-comedy-graduation/
LOCATION:District 5\, Cairo Governorate Desert\, Cairo Governorate 4064051\, New Cairo
CATEGORIES:Comedy
ATTACH;FMTTYPE=image/jpeg:https://cairospots.com/wp-content/uploads/2026/04/IMG_3526.jpeg
END:VEVENT
END:VCALENDAR