BEGIN:VCALENDAR
VERSION:2.0
PRODID:-//Cairo Spots - ECPv6.15.20//NONSGML v1.0//EN
CALSCALE:GREGORIAN
METHOD:PUBLISH
X-WR-CALNAME:Cairo Spots
X-ORIGINAL-URL:https://cairospots.com
X-WR-CALDESC:Events for Cairo Spots
REFRESH-INTERVAL;VALUE=DURATION:PT1H
X-Robots-Tag:noindex
X-PUBLISHED-TTL:PT1H
BEGIN:VTIMEZONE
TZID:UTC
BEGIN:STANDARD
TZOFFSETFROM:+0000
TZOFFSETTO:+0000
TZNAME:UTC
DTSTART:20250101T000000
END:STANDARD
END:VTIMEZONE
BEGIN:VEVENT
DTSTART;TZID=UTC:20260430T210000
DTEND;TZID=UTC:20260430T233000
DTSTAMP:20260424T170716
CREATED:20260420T204629Z
LAST-MODIFIED:20260420T204629Z
UID:10002020-1777582800-1777591800@cairospots.com
SUMMARY:The Goats X Rihany
DESCRIPTION:After the huge success of Volume One\, they’re back to take over Rihany stage once again on April 30. They can’t wait to see you all — bringing fresh material\, brand new jokes\, and a whole new vibe.
URL:https://cairospots.com/event/the-goats-x-rihany/
LOCATION:El Rihany Theater\, 17 Emad El-Deen\, Oraby\, Al Azbakeya\, Cairo Governorate\, Egypt
CATEGORIES:Comedy
ATTACH;FMTTYPE=image/jpeg:https://cairospots.com/wp-content/uploads/2026/04/IMG_3341.jpeg
END:VEVENT
END:VCALENDAR