BEGIN:VCALENDAR
VERSION:2.0
PRODID:-//Cairo Spots - ECPv6.15.20//NONSGML v1.0//EN
CALSCALE:GREGORIAN
METHOD:PUBLISH
X-ORIGINAL-URL:https://cairospots.com
X-WR-CALDESC:Events for Cairo Spots
REFRESH-INTERVAL;VALUE=DURATION:PT1H
X-Robots-Tag:noindex
X-PUBLISHED-TTL:PT1H
BEGIN:VTIMEZONE
TZID:UTC
BEGIN:STANDARD
TZOFFSETFROM:+0000
TZOFFSETTO:+0000
TZNAME:UTC
DTSTART:20250101T000000
END:STANDARD
END:VTIMEZONE
BEGIN:VEVENT
DTSTART;TZID=UTC:20260423T070000
DTEND;TZID=UTC:20260424T190000
DTSTAMP:20260424T164857
CREATED:20260415T202718Z
LAST-MODIFIED:20260415T202718Z
UID:10001978-1776927600-1777057200@cairospots.com
SUMMARY:Between Two Poles
DESCRIPTION:The play is an immersive theatre experience that explores the suffering that follows the tragic loss of a family’s young child and the difficulties of healing from such wounds. Between two poles pauses time\, revealing how hard it is for the family to move beyond this critical moment. It portrays a phase of reconstruction\, where each individual is reshaped into a version of who they once were. The performance zooms in on the space between rejection and acceptance\, showing how family members rely on each other for strength as they learn to forgive and move forward.
URL:https://cairospots.com/event/between-two-poles/
LOCATION:Rawabet Art Space\, 5 Hussein Basha Al Meamari\, Marouf\, Qasr El Nil\, Cairo\, Egypt
CATEGORIES:Show
ATTACH;FMTTYPE=image/jpeg:https://cairospots.com/wp-content/uploads/2026/04/IMG_3496.jpeg
END:VEVENT
BEGIN:VEVENT
DTSTART;TZID=UTC:20260430T190000
DTEND;TZID=UTC:20260501T190000
DTSTAMP:20260424T164857
CREATED:20260415T204015Z
LAST-MODIFIED:20260415T204015Z
UID:10001983-1777575600-1777662000@cairospots.com
SUMMARY:The Journey
DESCRIPTION:The Journey tells the story of three siblings who gather together on the day their eldest brother is set to embark on an important trip. As they wait for him to leave\, they revisit old memories and find closure in various aspects of their lives and relationships\, giving the trip a deeper\, more profound meaning.
URL:https://cairospots.com/event/the-journey/
LOCATION:Rawabet Art Space\, 5 Hussein Basha Al Meamari\, Marouf\, Qasr El Nil\, Cairo\, Egypt
CATEGORIES:Show
ATTACH;FMTTYPE=image/jpeg:https://cairospots.com/wp-content/uploads/2026/04/IMG_3501.jpeg
END:VEVENT
BEGIN:VEVENT
DTSTART;TZID=UTC:20260508T190000
DTEND;TZID=UTC:20260509T233000
DTSTAMP:20260424T164857
CREATED:20260420T185220Z
LAST-MODIFIED:20260420T185220Z
UID:10002019-1778266800-1778369400@cairospots.com
SUMMARY:A Room Of Her Own
DESCRIPTION:A Room of Her Own is a poetic physical theatre performance set within a single\, timeless room\, where three women share the space without ever seeing one another\, each immersed in her own solitude. Through movement\, fragmented storytelling\, and text\, the piece traces the quiet persistence of memory as it lives in gestures\, silences\, and daily rituals. As their inner worlds begin to echo\, subtle repetitions and shifting rhythms suggest unseen connections without ever fully revealing them\, turning the space into a meditation on presence and absence—where silence slowly transforms into something shared.
URL:https://cairospots.com/event/a-room-of-her-own/
LOCATION:Rawabet Art Space\, 5 Hussein Basha Al Meamari\, Marouf\, Qasr El Nil\, Cairo\, Egypt
CATEGORIES:Show
ATTACH;FMTTYPE=image/jpeg:https://cairospots.com/wp-content/uploads/2026/04/IMG_3550.jpeg
END:VEVENT
END:VCALENDAR