BEGIN:VCALENDAR
VERSION:2.0
PRODID:-//Cairo Spots - ECPv6.15.20//NONSGML v1.0//EN
CALSCALE:GREGORIAN
METHOD:PUBLISH
X-WR-CALNAME:Cairo Spots
X-ORIGINAL-URL:https://cairospots.com
X-WR-CALDESC:Events for Cairo Spots
REFRESH-INTERVAL;VALUE=DURATION:PT1H
X-Robots-Tag:noindex
X-PUBLISHED-TTL:PT1H
BEGIN:VTIMEZONE
TZID:UTC
BEGIN:STANDARD
TZOFFSETFROM:+0000
TZOFFSETTO:+0000
TZNAME:UTC
DTSTART:20250101T000000
END:STANDARD
END:VTIMEZONE
BEGIN:VEVENT
DTSTART;TZID=UTC:20260213T210000
DTEND;TZID=UTC:20260213T233000
DTSTAMP:20260424T200504
CREATED:20260131T130157Z
LAST-MODIFIED:20260131T130157Z
UID:10001814-1771016400-1771025400@cairospots.com
SUMMARY:Studio Samara Showcase at Cinema Radio
DESCRIPTION:Studio Samara presents its cultural showcase on Friday\, February 13\, 2026\, at Cinema Radio in Downtown Cairo. Rooted in Egyptian heritage and inspired by Cairo’s golden age\, the showcase delivers an immersive evening where performance\, atmosphere\, and setting take center stage. As the lights dim and the curtains rise\, the night unfolds with timeless glamour and carefully curated performances designed for audiences seeking culture at full volume. Studio Samara offers a complete experience that blends live expression\, visual presence\, and hospitality inside one of Downtown Cairo’s most iconic venues.
URL:https://cairospots.com/event/studio-samara-showcase-at-cinema-radio-3/
LOCATION:Studio Samara\, 24 Talaat Harb\, Marouf\, Qasr El Nil\, Cairo Governorate 4272141\, Downtown
CATEGORIES:Show
ATTACH;FMTTYPE=image/jpeg:https://cairospots.com/wp-content/uploads/2026/01/Event-Cover-46.jpg
END:VEVENT
BEGIN:VEVENT
DTSTART;TZID=UTC:20260212T210000
DTEND;TZID=UTC:20260212T230000
DTSTAMP:20260424T200504
CREATED:20260131T123835Z
LAST-MODIFIED:20260131T123835Z
UID:10001813-1770930000-1770937200@cairospots.com
SUMMARY:Studio Samara Showcase at Cinema Radio
DESCRIPTION:Studio Samara presents its cultural showcase on Thursday\, February 12\, 2026\, at Cinema Radio in Downtown Cairo. Rooted in Egyptian heritage and inspired by Cairo’s golden age\, the showcase offers an immersive evening where performance\, atmosphere\, and setting come together in a refined\, stage driven experience. As the lights dim and the curtains rise\, the night unfolds with timeless glamour and carefully curated performances designed for audiences seeking culture at full volume. Studio Samara delivers a complete evening that blends live expression\, visual presence\, and hospitality inside one of Downtown Cairo’s most iconic spaces.
URL:https://cairospots.com/event/studio-samara-showcase-at-cinema-radio-2/
LOCATION:Studio Samara\, 24 Talaat Harb\, Marouf\, Qasr El Nil\, Cairo Governorate 4272141\, Downtown
CATEGORIES:Show
ATTACH;FMTTYPE=image/jpeg:https://cairospots.com/wp-content/uploads/2026/01/Event-Cover-45.jpg
END:VEVENT
BEGIN:VEVENT
DTSTART;TZID=UTC:20260206T210000
DTEND;TZID=UTC:20260206T233000
DTSTAMP:20260424T200504
CREATED:20260131T123402Z
LAST-MODIFIED:20260131T123402Z
UID:10001812-1770411600-1770420600@cairospots.com
SUMMARY:Studio Samara Showcase at Cinema Radio
DESCRIPTION:Studio Samara returns with a curated cultural showcase on Friday\, February 6\, 2026\, at Cinema Radio in Downtown Cairo. Designed as an immersive evening rooted in Egyptian heritage\, the showcase brings together live performances\, visual atmosphere\, and refined hospitality inside one of Downtown’s most iconic venues. As the lights dim and the curtains rise\, the night unfolds as a celebration of timeless glamour\, stage presence\, and cultural expression inspired by Cairo’s golden age. The experience is crafted for audiences seeking a full sensory night where music\, performance\, and setting move together in sync. \n• Table reservation includes a premium food set menu and soft drinks\n• Bar reservation includes soft drinks only\n• Entry is subject to reservation confirmation\n• Venue house rules apply
URL:https://cairospots.com/event/studio-samara-showcase-at-cinema-radio/
LOCATION:Studio Samara\, 24 Talaat Harb\, Marouf\, Qasr El Nil\, Cairo Governorate 4272141\, Downtown
CATEGORIES:Show
ATTACH;FMTTYPE=image/jpeg:https://cairospots.com/wp-content/uploads/2026/01/Event-Cover-44.jpg
END:VEVENT
BEGIN:VEVENT
DTSTART;TZID=UTC:20260205T210000
DTEND;TZID=UTC:20260205T233000
DTSTAMP:20260424T200504
CREATED:20260131T122913Z
LAST-MODIFIED:20260131T122913Z
UID:10001811-1770325200-1770334200@cairospots.com
SUMMARY:Studio Samara Showcase at Cinema Radio Downtown Cairo
DESCRIPTION:Studio Samara hosts its showcase on Thursday\, February 5\, 2026\, at Cinema Radio in Downtown Cairo\, presenting a curated night rooted in Egyptian culture\, performance\, and visual expression. The showcase brings Studio Samara’s identity to the stage through live performances and carefully designed atmospheres that reference Cairo’s golden age while placing it in a contemporary setting. The evening is structured as a full cultural experience\, combining music\, movement\, and style in one continuous program. Table reservations include a premium food set menu with soft drinks\, while bar reservations include soft drinks only. The event takes place at Studio Samara\, Cinema Radio\, in Downtown Cairo.
URL:https://cairospots.com/event/studio-samara-showcase-at-cinema-radio-downtown-cairo/
LOCATION:Studio Samara\, 24 Talaat Harb\, Marouf\, Qasr El Nil\, Cairo Governorate 4272141\, Downtown
CATEGORIES:Show
ATTACH;FMTTYPE=image/jpeg:https://cairospots.com/wp-content/uploads/2026/01/Event-Cover-43.jpg
END:VEVENT
BEGIN:VEVENT
DTSTART;TZID=UTC:20260123T203000
DTEND;TZID=UTC:20260123T233000
DTSTAMP:20260424T200504
CREATED:20260119T195922Z
LAST-MODIFIED:20260120T213313Z
UID:10001313-1769200200-1769211000@cairospots.com
SUMMARY:Studio Samara Grand Opening at Cinema Radio Downtown Cairo
DESCRIPTION:Studio Samara continues its grand opening weekend on Friday January 23\, 2026 at Cinema Radio in Downtown Cairo. Expect a culture focused night built around live performances and a classic\, dressed up atmosphere. The show starts at 8:30 PM and the dress code is Evening Chic. \nTable reservations include a premium signature menu to share plus soft drinks excluding Red Bull and local wine and beer. Table is EGP 3\,000 per person with a minimum of 4 people. VIP Table is EGP 4\,000 per person with a minimum of 6 and maximum of 8 people. VIP Lounge is EGP 4\,000 per person with a minimum of 6 and maximum of 8 people. Table allocation depends on category selected and availability.
URL:https://cairospots.com/event/studio-samara-grand-opening-at-cinema-radio-downtown-cairo-2/
LOCATION:Studio Samara\, 24 Talaat Harb\, Marouf\, Qasr El Nil\, Cairo Governorate 4272141\, Downtown
CATEGORIES:Concert,Show
ATTACH;FMTTYPE=image/jpeg:https://cairospots.com/wp-content/uploads/2026/01/IMG_2881.jpeg
END:VEVENT
BEGIN:VEVENT
DTSTART;TZID=UTC:20260122T203000
DTEND;TZID=UTC:20260122T233000
DTSTAMP:20260424T200504
CREATED:20260119T194202Z
LAST-MODIFIED:20260120T160655Z
UID:10001312-1769113800-1769124600@cairospots.com
SUMMARY:Studio Samara Grand Opening at Cinema Radio Downtown Cairo
DESCRIPTION:Studio Samara launches with its grand opening night on Thursday January 22\, 2026 at Cinema Radio in Downtown Cairo. Doors open for an evening of Egyptian culture focused performances in a cinematic setting. The show starts at 8:30 PM and the dress code is Evening Chic. \nTable reservations are available with a premium set menu to share plus soft drinks excluding Red Bull and local wine and beer. Table is EGP 3\,000 per person with a minimum of 4 people. VIP Table is EGP 4\,000 per person with a minimum of 6 and maximum of 8 people. VIP Lounge is EGP 4\,000 per person with a minimum of 6 and maximum of 8 people. Table allocation depends on category selected and availability.
URL:https://cairospots.com/event/studio-samara-grand-opening-at-cinema-radio-downtown-cairo/
LOCATION:Studio Samara\, 24 Talaat Harb\, Marouf\, Qasr El Nil\, Cairo Governorate 4272141\, Downtown
CATEGORIES:Concert,Show
ATTACH;FMTTYPE=image/jpeg:https://cairospots.com/wp-content/uploads/2026/01/IMG_2880.jpeg
END:VEVENT
END:VCALENDAR