BEGIN:VCALENDAR
VERSION:2.0
PRODID:-//Cairo Spots - ECPv6.15.20//NONSGML v1.0//EN
CALSCALE:GREGORIAN
METHOD:PUBLISH
X-WR-CALNAME:Cairo Spots
X-ORIGINAL-URL:https://cairospots.com
X-WR-CALDESC:Events for Cairo Spots
REFRESH-INTERVAL;VALUE=DURATION:PT1H
X-Robots-Tag:noindex
X-PUBLISHED-TTL:PT1H
BEGIN:VTIMEZONE
TZID:UTC
BEGIN:STANDARD
TZOFFSETFROM:+0000
TZOFFSETTO:+0000
TZNAME:UTC
DTSTART:20250101T000000
END:STANDARD
END:VTIMEZONE
BEGIN:VEVENT
DTSTART;TZID=UTC:20260424T150000
DTEND;TZID=UTC:20260424T220000
DTSTAMP:20260424T163425
CREATED:20260415T201408Z
LAST-MODIFIED:20260415T201408Z
UID:10001975-1777042800-1777068000@cairospots.com
SUMMARY:DISCO-TECH BY THE NILE
DESCRIPTION:-Minimum entry age is 23+\n-Physical valid ID to be checked on door.\n-Violent behavior will not be tolerated.\n-Harassment of any kind will not be tolerated.\n-Illegal substances are not permitted.\n-Sunglasses are not permitted.\n-Slippers are not permitted.\n-Entry is for valid QR code holders only.\n-Door selection applies.\n-Tickets cannot be refunded or transferred once payment is made
URL:https://cairospots.com/event/disco-tech-by-the-nile/
LOCATION:Tenaya
CATEGORIES:Party
ATTACH;FMTTYPE=image/jpeg:https://cairospots.com/wp-content/uploads/2026/04/IMG_3470.jpeg
END:VEVENT
BEGIN:VEVENT
DTSTART;TZID=UTC:20260429T200000
DTEND;TZID=UTC:20260429T230000
DTSTAMP:20260424T163425
CREATED:20260415T203502Z
LAST-MODIFIED:20260415T203502Z
UID:10001981-1777492800-1777503600@cairospots.com
SUMMARY:MENNA HUSSEIN | MASSAR EGBARI
DESCRIPTION:House Rules:\n-Minimum entry age is 23+\n-Physical valid ID to be checked on door.\n-Violent behavior will not be tolerated.\n-Entry is allowed for couples or mixed groups only.\n-Harassment of any kind will not be tolerated.\n-Illegal substances are not permitted.\n-Sunglasses are not permitted.\n-Slippers are not permitted.\n-Entry is for valid QR code holders only.\n-Door selection applies.\n-Tickets cannot be refunded or transferred once payment is made.
URL:https://cairospots.com/event/menna-hussein-massar-egbari/
LOCATION:Tenaya
CATEGORIES:Concert
ATTACH;FMTTYPE=image/jpeg:https://cairospots.com/wp-content/uploads/2026/04/IMG_3499.jpeg
END:VEVENT
BEGIN:VEVENT
DTSTART;TZID=UTC:20260430T200000
DTEND;TZID=UTC:20260430T230000
DTSTAMP:20260424T163425
CREATED:20260415T203742Z
LAST-MODIFIED:20260421T205505Z
UID:10001982-1777579200-1777590000@cairospots.com
SUMMARY:REGROOVE SHOWCASE
DESCRIPTION:House Rules:\n-Minimum entry age is 23+\n-Physical valid ID to be checked on door\n-Violent behavior will not be tolerated\n-Harassment of any kind will not be tolerated\n-Illegal substances are not permitted\n-Sunglasses are not permitted\n-Slippers are not permitted\n-Entry is for valid QR code holders only\n-Tickets cannot be refunded or transferred once payment is made\n-Alcohol will only be allowed in the terrace area\n-Entry is possible for couples or mixed groups only\n-Door selection applies
URL:https://cairospots.com/event/regroove-showcase/
LOCATION:Tenaya
CATEGORIES:Party
ATTACH;FMTTYPE=image/jpeg:https://cairospots.com/wp-content/uploads/2026/04/IMG_3426-1.jpeg
END:VEVENT
END:VCALENDAR