BEGIN:VCALENDAR
VERSION:2.0
PRODID:-//Cairo Spots - ECPv6.15.20//NONSGML v1.0//EN
CALSCALE:GREGORIAN
METHOD:PUBLISH
X-ORIGINAL-URL:https://cairospots.com
X-WR-CALDESC:Events for Cairo Spots
REFRESH-INTERVAL;VALUE=DURATION:PT1H
X-Robots-Tag:noindex
X-PUBLISHED-TTL:PT1H
BEGIN:VTIMEZONE
TZID:UTC
BEGIN:STANDARD
TZOFFSETFROM:+0000
TZOFFSETTO:+0000
TZNAME:UTC
DTSTART:20250101T000000
END:STANDARD
END:VTIMEZONE
BEGIN:VEVENT
DTSTART;TZID=UTC:20260213T210000
DTEND;TZID=UTC:20260213T233000
DTSTAMP:20260424T231105
CREATED:20260210T095222Z
LAST-MODIFIED:20260210T095633Z
UID:10001921-1771016400-1771025400@cairospots.com
SUMMARY:FK Your Flowers at The Rec Room
DESCRIPTION:On Friday\, February 13\, romance takes a back seat as Azaar\, Lostboi\, and Twobees flip Valentine’s clichés on their head. No flowers\, no slow dances\, just a night built around high energy selections\, heavy grooves\, and a packed dance floor. Love looks different here\, louder\, sweatier\, and driven by music till late. Reservations via +20 122 6688996.
URL:https://cairospots.com/event/fk-your-flowers-at-the-rec-room/
LOCATION:The Rec Room\, 17 Street 257\, Maadi as Sarayat Al Gharbeyah\, Maadi\, Cairo Governorate 4234004\, Maadi
CATEGORIES:Party
ATTACH;FMTTYPE=image/jpeg:https://cairospots.com/wp-content/uploads/2026/02/Event-Cover-32.jpg
END:VEVENT
BEGIN:VEVENT
DTSTART;TZID=UTC:20260212T210000
DTEND;TZID=UTC:20260212T233000
DTSTAMP:20260424T231105
CREATED:20260210T100328Z
LAST-MODIFIED:20260210T100401Z
UID:10001923-1770930000-1770939000@cairospots.com
SUMMARY:Heart Beats at The Rec Room
DESCRIPTION:On Thursday\, February 12\, Azaar\, Delrady\, and Selim take over the speakeasy for a high pressure\, bass driven night built to keep the floor moving. No romance\, no distractions\, just tight selections\, heavy energy\, and a late night crowd locked into the rhythm. Cupid can sit this one out. Reservations via +20 122 6688996.
URL:https://cairospots.com/event/heart-beats-at-the-rec-room-2/
LOCATION:The Rec Room\, 17 Street 257\, Maadi as Sarayat Al Gharbeyah\, Maadi\, Cairo Governorate 4234004\, Maadi
CATEGORIES:Party
ATTACH;FMTTYPE=image/jpeg:https://cairospots.com/wp-content/uploads/2026/02/Event-Cover-33-1.jpg
END:VEVENT
BEGIN:VEVENT
DTSTART;TZID=UTC:20260212T210000
DTEND;TZID=UTC:20260212T233000
DTSTAMP:20260424T231105
CREATED:20260210T095438Z
LAST-MODIFIED:20260210T095439Z
UID:10001922-1770930000-1770939000@cairospots.com
SUMMARY:Heart Beats at The Rec Room
DESCRIPTION:On Thursday\, February 12\, Azaar\, Delrady\, and Selim take over the speakeasy for a high pressure\, bass driven night built to keep the floor moving. No romance\, no distractions\, just tight selections\, heavy energy\, and a late night crowd locked into the rhythm. Cupid can sit this one out. Reservations via +20 122 6688996.
URL:https://cairospots.com/event/heart-beats-at-the-rec-room/
LOCATION:The Rec Room\, 17 Street 257\, Maadi as Sarayat Al Gharbeyah\, Maadi\, Cairo Governorate 4234004\, Maadi
CATEGORIES:Party
ATTACH;FMTTYPE=image/jpeg:https://cairospots.com/wp-content/uploads/2026/02/Event-Cover-33.jpg
END:VEVENT
BEGIN:VEVENT
DTSTART;TZID=UTC:20260207T210000
DTEND;TZID=UTC:20260207T233000
DTSTAMP:20260424T231105
CREATED:20260205T190809Z
LAST-MODIFIED:20260205T190809Z
UID:10001901-1770498000-1770507000@cairospots.com
SUMMARY:BOU-D & YAYA-G at The Rec Room
DESCRIPTION:On Saturday\, February 7\, The Rec Room hosts a late-night session led by BOU-D and YAYA-G\, delivering a rhythm-driven set built for nonstop movement and shared energy. Expect deep grooves\, dance-focused selections\, and a tightly packed floor where the music does the talking. A night made for coming together\, locking into the beat\, and staying until the last track hits. Reservations available via +20 122 6688996.
URL:https://cairospots.com/event/bou-d-yaya-g-at-the-rec-room/
LOCATION:The Rec Room\, 17 Street 257\, Maadi as Sarayat Al Gharbeyah\, Maadi\, Cairo Governorate 4234004\, Maadi
CATEGORIES:Party
ATTACH;FMTTYPE=image/jpeg:https://cairospots.com/wp-content/uploads/2026/02/Event-Cover-8.jpg
END:VEVENT
BEGIN:VEVENT
DTSTART;TZID=UTC:20260206T210000
DTEND;TZID=UTC:20260206T233000
DTSTAMP:20260424T231105
CREATED:20260202T164421Z
LAST-MODIFIED:20260202T165000Z
UID:10001881-1770411600-1770420600@cairospots.com
SUMMARY:Mo Amer & Saify at The Rec Room
DESCRIPTION:Mo Amer and Saify take over the decks on Friday\, February 6 for their speakeasy debut at The Rec Room. Bringing an energy driven set built for late night dancing\, the duo delivers a sound that leans into rhythm\, flow\, and movement from the first track through the closing hours. \nThe night channels the feel of classic dance floor sessions\, where the music stays front and center and the crowd stays locked in. Expect a packed room\, a lively atmosphere\, and a dance floor that doesn’t slow down. \nFor reservations and table bookings\, contact +20 122 668 8996.
URL:https://cairospots.com/event/mo-amer-saify-at-the-rec-room/
LOCATION:The Rec Room\, 17 Street 257\, Maadi as Sarayat Al Gharbeyah\, Maadi\, Cairo Governorate 4234004\, Maadi
CATEGORIES:Party
ATTACH;FMTTYPE=image/jpeg:https://cairospots.com/wp-content/uploads/2026/02/Event-Cover-99-1.jpg
END:VEVENT
BEGIN:VEVENT
DTSTART;TZID=UTC:20260205T210000
DTEND;TZID=UTC:20260205T233000
DTSTAMP:20260424T231105
CREATED:20260202T164231Z
LAST-MODIFIED:20260202T164328Z
UID:10001880-1770325200-1770334200@cairospots.com
SUMMARY:Masry & Sherif Rafik at The Rec Room
DESCRIPTION:Masry and Sherif Rafik return to the decks on Thursday\, February 5 for a long awaited night built around high energy selections and non stop movement. Known for their ability to flip the room the moment they start playing\, the duo brings a sound that keeps the dance floor full and the momentum going deep into the night. \nHosted at The Rec Room\, the night leans into groove driven sets\, familiar rhythms\, and dance floor focused music designed for people who come to move. Expect a packed room\, flowing drinks\, and a crowd locked into the same pulse from start to finish. \nFor reservations and table bookings\, contact +20 122 668 8996.
URL:https://cairospots.com/event/masry-sherif-rafik-at-the-rec-room/
LOCATION:The Rec Room\, 17 Street 257\, Maadi as Sarayat Al Gharbeyah\, Maadi\, Cairo Governorate 4234004\, Maadi
CATEGORIES:Party
ATTACH;FMTTYPE=image/jpeg:https://cairospots.com/wp-content/uploads/2026/02/Event-Cover-98.jpg
END:VEVENT
BEGIN:VEVENT
DTSTART;TZID=UTC:20260131T210000
DTEND;TZID=UTC:20260131T233000
DTSTAMP:20260424T231105
CREATED:20260129T145847Z
LAST-MODIFIED:20260129T145847Z
UID:10001798-1769893200-1769902200@cairospots.com
SUMMARY:Meteni and Mostoov at The Rec Room
DESCRIPTION:Meteni and Mostoov are set to take over the speakeasy at The Rec Room on Saturday\, January 31\, delivering a late night session focused on fast beats\, unrelenting energy\, and sharp sound ingenuity behind closed doors. The night is built for late night crowds\, with high tempo selections and continuous momentum designed to keep the room moving deep into the night. For reservations and more information\, contact +20 122 6688996.
URL:https://cairospots.com/event/meteni-and-mostoov-at-the-rec-room/
LOCATION:The Rec Room\, 17 Street 257\, Maadi as Sarayat Al Gharbeyah\, Maadi\, Cairo Governorate 4234004\, Maadi
CATEGORIES:Party
ATTACH;FMTTYPE=image/jpeg:https://cairospots.com/wp-content/uploads/2026/01/Event-Cover-28.jpg
END:VEVENT
BEGIN:VEVENT
DTSTART;TZID=UTC:20260129T210000
DTEND;TZID=UTC:20260129T233000
DTSTAMP:20260424T231105
CREATED:20260127T162130Z
LAST-MODIFIED:20260127T162130Z
UID:10001354-1769720400-1769729400@cairospots.com
SUMMARY:AUF Birthday Bash at The Rec Room
DESCRIPTION:AUF celebrates his birthday with an all night disco focused session at The Rec Room on Thursday\, January 29. The event follows a speakeasy format with uninterrupted music and a single room dance floor. \nThe night is built around continuous DJing\, late hours\, and limited capacity\, with no programmed breaks or stage moments. Entry is subject to venue policy.
URL:https://cairospots.com/event/auf-birthday-bash-at-the-rec-room/
LOCATION:The Rec Room\, 17 Street 257\, Maadi as Sarayat Al Gharbeyah\, Maadi\, Cairo Governorate 4234004\, Maadi
CATEGORIES:Party
ATTACH;FMTTYPE=image/jpeg:https://cairospots.com/wp-content/uploads/2026/01/Untitled-design-20.jpg
END:VEVENT
BEGIN:VEVENT
DTSTART;TZID=UTC:20260123T210000
DTEND;TZID=UTC:20260123T235900
DTSTAMP:20260424T231105
CREATED:20260116T061451Z
LAST-MODIFIED:20260122T120301Z
UID:10000825-1769202000-1769212740@cairospots.com
SUMMARY:Ashmawy and Moti at The Rec Room
DESCRIPTION:shmawy and Moti make their debut appearance at The Rec Room in Cairo for a night built around sound exploration\, contrast\, and shared musical instinct. Bringing together an established force and a rising presence\, the night focuses on groove\, texture\, and evolving energy on the dancefloor. \nExpect deep rhythms\, extended transitions\, and a focused club atmosphere where selection and flow take priority. Set inside The Rec Room’s intimate space\, the night is designed for listeners and dancers looking for a connected\, movement driven experience. \nFriday\, January 23\nThe Rec Room\, Cairo\, Egypt\nFor reservations and entry details: +20 122 668 8996
URL:https://cairospots.com/event/ashmawy-and-moti-at-the-rec-room/
LOCATION:The Rec Room\, 17 Street 257\, Maadi as Sarayat Al Gharbeyah\, Maadi\, Cairo Governorate 4234004\, Maadi
CATEGORIES:Party
ATTACH;FMTTYPE=image/jpeg:https://cairospots.com/wp-content/uploads/2026/01/Untitled-design.jpg
END:VEVENT
BEGIN:VEVENT
DTSTART;TZID=UTC:20260122T210000
DTEND;TZID=UTC:20260122T235900
DTSTAMP:20260424T231105
CREATED:20260118T174605Z
LAST-MODIFIED:20260120T160647Z
UID:10001285-1769115600-1769126340@cairospots.com
SUMMARY:Ziad Mousa Open to Close at The Rec Room
DESCRIPTION:A six hour open to close DJ set by Ziad Mousa at The Rec Room\, built around continuous energy and uninterrupted sound from start to finish. The night is designed as a full journey rather than segmented sets\, allowing the music to evolve gradually across the dance floor. \nThe event also marks a special birthday celebration\, adding a personal edge to the night while keeping the focus on extended club rhythms\, late night momentum\, and a high intensity atmosphere for dedicated dancers and music focused crowds.
URL:https://cairospots.com/event/ziad-mousa-open-to-close-at-the-rec-room/
LOCATION:The Rec Room\, 17 Street 257\, Maadi as Sarayat Al Gharbeyah\, Maadi\, Cairo Governorate 4234004\, Maadi
CATEGORIES:Party
ATTACH;FMTTYPE=image/jpeg:https://cairospots.com/wp-content/uploads/2026/01/IMG_2861.jpeg
END:VEVENT
BEGIN:VEVENT
DTSTART;TZID=UTC:20260117T210000
DTEND;TZID=UTC:20260117T235900
DTSTAMP:20260424T231105
CREATED:20260116T062103Z
LAST-MODIFIED:20260116T062241Z
UID:10000827-1768683600-1768694340@cairospots.com
SUMMARY:Azaar\, Hashad\, and Helal at The Rec Room
DESCRIPTION:Azaar\, Hashad\, and Helal take over The Rec Room in Cairo for a Saturday night driven by energy\, rhythm\, and long-form movement on the dancefloor. The trio brings a tightly connected flow behind the booth\, building momentum through driving grooves\, sharp transitions\, and sustained late-night intensity. \nThis night is shaped around stamina and sound\, where each set feeds into the next and the room stays in motion without pause. Designed for dancers who like to settle in and stay moving\, it is a full-length club experience inside one of Cairo’s most intimate underground spaces. \nSaturday\, January 17\nThe Rec Room\, Cairo\, Egypt
URL:https://cairospots.com/event/azaar-hashad-and-helal-at-the-rec-room/
LOCATION:The Rec Room\, 17 Street 257\, Maadi as Sarayat Al Gharbeyah\, Maadi\, Cairo Governorate 4234004\, Maadi
CATEGORIES:Party
ATTACH;FMTTYPE=image/jpeg:https://cairospots.com/wp-content/uploads/2026/01/SnapInsta-Ai_3809990950592715912-2.jpg
END:VEVENT
BEGIN:VEVENT
DTSTART;TZID=UTC:20260116T210000
DTEND;TZID=UTC:20260116T235900
DTSTAMP:20260424T231105
CREATED:20260116T061724Z
LAST-MODIFIED:20260116T062251Z
UID:10000826-1768597200-1768607940@cairospots.com
SUMMARY:Mike Pham\, Bakir\, and Azaar at The Rec Room
DESCRIPTION:Mike Pham\, Bakir\, and Azaar take over The Rec Room in Cairo for a night driven by contrast\, pressure\, and release. Built around movement and sound control\, the night moves through peaks and valleys with each artist shaping the floor in their own way. \nExpect high intensity moments balanced with deeper passages\, tight transitions\, and an energy that stays focused from start to finish. This is a club night centered on momentum\, selection\, and shared impact inside one of Cairo’s most intimate underground spaces. \nFriday\, January 16\nThe Rec Room\, Cairo\, Egypt \nFor reservations and entry details: +20 122 668 8996
URL:https://cairospots.com/event/mike-pham-bakir-and-azaar-at-the-rec-room/
LOCATION:The Rec Room\, 17 Street 257\, Maadi as Sarayat Al Gharbeyah\, Maadi\, Cairo Governorate 4234004\, Maadi
CATEGORIES:Party
ATTACH;FMTTYPE=image/jpeg:https://cairospots.com/wp-content/uploads/2026/01/SnapInsta-Ai_3808552585464913840-2-1.jpg
END:VEVENT
END:VCALENDAR